BEGIN:VCALENDAR
VERSION:2.0
PRODID:-//Historic Wethersfield - ECPv6.15.20//NONSGML v1.0//EN
CALSCALE:GREGORIAN
METHOD:PUBLISH
X-WR-CALNAME:Historic Wethersfield
X-ORIGINAL-URL:https://historicwethersfield.org
X-WR-CALDESC:Events for Historic Wethersfield
REFRESH-INTERVAL;VALUE=DURATION:PT1H
X-Robots-Tag:noindex
X-PUBLISHED-TTL:PT1H
BEGIN:VTIMEZONE
TZID:America/New_York
BEGIN:DAYLIGHT
TZOFFSETFROM:-0500
TZOFFSETTO:-0400
TZNAME:EDT
DTSTART:20250309T070000
END:DAYLIGHT
BEGIN:STANDARD
TZOFFSETFROM:-0400
TZOFFSETTO:-0500
TZNAME:EST
DTSTART:20251102T060000
END:STANDARD
BEGIN:DAYLIGHT
TZOFFSETFROM:-0500
TZOFFSETTO:-0400
TZNAME:EDT
DTSTART:20260308T070000
END:DAYLIGHT
BEGIN:STANDARD
TZOFFSETFROM:-0400
TZOFFSETTO:-0500
TZNAME:EST
DTSTART:20261101T060000
END:STANDARD
BEGIN:DAYLIGHT
TZOFFSETFROM:-0500
TZOFFSETTO:-0400
TZNAME:EDT
DTSTART:20270314T070000
END:DAYLIGHT
BEGIN:STANDARD
TZOFFSETFROM:-0400
TZOFFSETTO:-0500
TZNAME:EST
DTSTART:20271107T060000
END:STANDARD
END:VTIMEZONE
BEGIN:VEVENT
DTSTART;TZID=America/New_York:20260801T110000
DTEND;TZID=America/New_York:20260801T130000
DTSTAMP:20260422T214425
CREATED:20260218T181132Z
LAST-MODIFIED:20260218T181607Z
UID:10001137-1785582000-1785589200@historicwethersfield.org
SUMMARY:19th Century Vintage Base Ball
DESCRIPTION:August 1st\, 11:00am. 19th Century Vintage Base Ball \nWhat’s more American than Baseball? How about Base Ball the way it was ment to be played! Come see the Red Onions vs. Westfield Wheelmen at the Wethersfield Cove. \nParking available at DMV 60 State Street. \n2026 Red Onion Base Ball Schedule: \n\nHOME 5-2-26 the Atlantics come to Wethersfield for two games (underhand)\nHOME 5-16-26 Woodstock Hilltoppers come to Wethersfield for two games (underhand)\nHOME 6-6-26 Hamden 9 and the Providence Grays come to Wethersfield vs the Red Onion\nAWAY 6-20-26 Red Onion go to Suffield Ct to play the Wheelmen\nAWAY 6-27-26 Special Ct Base Ball Day at Fort Trumbull in New London\, called Ct Day\nAWAY 7-25-26 We go to Woodstock Hilltoppers for two underhand games\nHOME 8-1-26 Westfield Wheelmen come to Wethersfield Vs the Red Onion\nAWAY 9-26-26 Red Onion will be going to Suffield Ct to take on the Wheelmen of Westfield\n\nMore dates to come…
URL:https://historicwethersfield.org/event/19th-century-vintage-base-ball-4/
LOCATION:Cove Park\, 220 Hartford Ave\, Wethersfield\, CT\, 06109\, United States
CATEGORIES:America 250,Entertainment,Sports
ATTACH;FMTTYPE=image/jpeg:https://cdn.historicwethersfield.org/wp-content/uploads/2026/02/18112403/The-Red-Onions.jpg
END:VEVENT
END:VCALENDAR