BEGIN:VCALENDAR
VERSION:2.0
PRODID:-//Historic Wethersfield - ECPv6.15.20//NONSGML v1.0//EN
CALSCALE:GREGORIAN
METHOD:PUBLISH
X-WR-CALNAME:Historic Wethersfield
X-ORIGINAL-URL:https://historicwethersfield.org
X-WR-CALDESC:Events for Historic Wethersfield
REFRESH-INTERVAL;VALUE=DURATION:PT1H
X-Robots-Tag:noindex
X-PUBLISHED-TTL:PT1H
BEGIN:VTIMEZONE
TZID:America/New_York
BEGIN:DAYLIGHT
TZOFFSETFROM:-0500
TZOFFSETTO:-0400
TZNAME:EDT
DTSTART:20250309T070000
END:DAYLIGHT
BEGIN:STANDARD
TZOFFSETFROM:-0400
TZOFFSETTO:-0500
TZNAME:EST
DTSTART:20251102T060000
END:STANDARD
BEGIN:DAYLIGHT
TZOFFSETFROM:-0500
TZOFFSETTO:-0400
TZNAME:EDT
DTSTART:20260308T070000
END:DAYLIGHT
BEGIN:STANDARD
TZOFFSETFROM:-0400
TZOFFSETTO:-0500
TZNAME:EST
DTSTART:20261101T060000
END:STANDARD
BEGIN:DAYLIGHT
TZOFFSETFROM:-0500
TZOFFSETTO:-0400
TZNAME:EDT
DTSTART:20270314T070000
END:DAYLIGHT
BEGIN:STANDARD
TZOFFSETFROM:-0400
TZOFFSETTO:-0500
TZNAME:EST
DTSTART:20271107T060000
END:STANDARD
END:VTIMEZONE
BEGIN:VEVENT
DTSTART;VALUE=DATE:20260608
DTEND;VALUE=DATE:20260609
DTSTAMP:20260422T200938
CREATED:20260331T201357Z
LAST-MODIFIED:20260331T201357Z
UID:10001174-1780876800-1780963199@historicwethersfield.org
SUMMARY:Keane Foundation/UNICO Golf Tournament
DESCRIPTION:June 8th\, 9:00am. Keane Foundation/Unico Golf Tournament  \nJoin the Keane Foundation and Wethersfield UNICO for their 24th Annual Golf Tournament at the Wethersfield Country Club. Checkin starts at 9am\, golf start time 10:30am. Lunch is to be served at 12 Noon at two locations on the course. Soda and bottled water are free throughout the day! Register and pay by June 5th! \n\nDinner; Prepared by Wethersfield Country Club Cocktail Hour\, Hors d’oeuvres\, & Buffet featuring Salad\, assorted Entrée Items\, Coffee and Dessert\nPrizes include; Team prizes for Low Gross and Low Calloway; Longest Drive on Selected Hole; Closest to the Pin on Selected Hole.\nRaffle & Auction; Auction conducted by Scot Haney of WFSB TV Channel 3\n\nRegister now! \nhttps://events.eventease.com/keane-unico-2026/.
URL:https://historicwethersfield.org/event/keane-foundation-unico-golf-tournament-2/
LOCATION:Wethersfield Country Club\, 76 Country Club Road\, Wethersfield\, CT\, 06109\, United States
CATEGORIES:Fundraising,Sports
ATTACH;FMTTYPE=image/png:https://cdn.historicwethersfield.org/wp-content/uploads/2026/03/31161330/KeaneUnico-Golf-Tournament.png
ORGANIZER;CN="Richard M. Keane Foundation":MAILTO:jakeane@aol.com
END:VEVENT
BEGIN:VEVENT
DTSTART;VALUE=DATE:20260608
DTEND;VALUE=DATE:20260609
DTSTAMP:20260422T200938
CREATED:20260220T175601Z
LAST-MODIFIED:20260220T175601Z
UID:10001138-1780876800-1780963199@historicwethersfield.org
SUMMARY:Keane Foundation/UNICO Golf Tournament
DESCRIPTION:Save the Date! \nJune 8th\, The Keane Foundation/UNICO Golf Tournament \nThis year ‘s tournament is in memory of Tony Santucci\, a longtime chair of the Keane Foundation/UNICO Golf Tournament Golf Tournament\, see logo below.
URL:https://historicwethersfield.org/event/keane-foundation-unico-golf-tournament/
LOCATION:Wethersfield Country Club\, 76 Country Club Road\, Wethersfield\, CT\, 06109\, United States
CATEGORIES:Fundraising,Sports
ATTACH;FMTTYPE=image/jpeg:https://cdn.historicwethersfield.org/wp-content/uploads/2026/02/20125454/wethcountryclub-360x240-1.jpg
END:VEVENT
END:VCALENDAR