BEGIN:VCALENDAR
VERSION:2.0
PRODID:-//Historic Wethersfield - ECPv6.15.20//NONSGML v1.0//EN
CALSCALE:GREGORIAN
METHOD:PUBLISH
X-WR-CALNAME:Historic Wethersfield
X-ORIGINAL-URL:https://historicwethersfield.org
X-WR-CALDESC:Events for Historic Wethersfield
REFRESH-INTERVAL;VALUE=DURATION:PT1H
X-Robots-Tag:noindex
X-PUBLISHED-TTL:PT1H
BEGIN:VTIMEZONE
TZID:America/New_York
BEGIN:DAYLIGHT
TZOFFSETFROM:-0500
TZOFFSETTO:-0400
TZNAME:EDT
DTSTART:20250309T070000
END:DAYLIGHT
BEGIN:STANDARD
TZOFFSETFROM:-0400
TZOFFSETTO:-0500
TZNAME:EST
DTSTART:20251102T060000
END:STANDARD
BEGIN:DAYLIGHT
TZOFFSETFROM:-0500
TZOFFSETTO:-0400
TZNAME:EDT
DTSTART:20260308T070000
END:DAYLIGHT
BEGIN:STANDARD
TZOFFSETFROM:-0400
TZOFFSETTO:-0500
TZNAME:EST
DTSTART:20261101T060000
END:STANDARD
BEGIN:DAYLIGHT
TZOFFSETFROM:-0500
TZOFFSETTO:-0400
TZNAME:EDT
DTSTART:20270314T070000
END:DAYLIGHT
BEGIN:STANDARD
TZOFFSETFROM:-0400
TZOFFSETTO:-0500
TZNAME:EST
DTSTART:20271107T060000
END:STANDARD
END:VTIMEZONE
BEGIN:VEVENT
DTSTART;VALUE=DATE:20260607
DTEND;VALUE=DATE:20260608
DTSTAMP:20260422T200945
CREATED:20260320T175838Z
LAST-MODIFIED:20260320T175838Z
UID:10001180-1780790400-1780876799@historicwethersfield.org
SUMMARY:Laura’s Garden Community Run
DESCRIPTION:June 7th\, 9:00am. Laura’s Garden Community Run  \nJoin Laura’s Garden for the 25th Annual Laura’s Garden Community Run at Standish Park in Old Wethersfield\, CT.  \nIt’s time to sprout into action! Whether you’re a speedy honey bee or a steady little ladybug\, there’s a place for you on the path! \nChoose your challenge: \n\nUSATF Certified 5k for the serious sprinters\n3k Run/Walk for a scenic stroll through beautiful Old Wethersfield\n\nThis year’s theme is Tiny Heroes of Laura’s Garden\, celebrating the small but mighty impact our pollinating visitors 🦋🌱 make on our environment.  \nRegister now! \nhttps://runsignup.com/Race/CT/Wethersfield/WethersfieldCommunityRun
URL:https://historicwethersfield.org/event/lauras-garden-community-run/
LOCATION:Standish Park\, Wethersfield\, CT\, 06109\, United States
CATEGORIES:Community,Fundraising,Gardens & Plants,Health & Wellness,Outdoors,Sports,Walk, Hike, or Bike
ATTACH;FMTTYPE=image/jpeg:https://cdn.historicwethersfield.org/wp-content/uploads/2026/03/20135643/Community-Run.jpg
ORGANIZER;CN="Laura's Garden":MAILTO:laurasgardenfoundation@gmail.com
END:VEVENT
BEGIN:VEVENT
DTSTART;TZID=America/New_York:20260607T080000
DTEND;TZID=America/New_York:20260607T120000
DTSTAMP:20260422T200945
CREATED:20260420T154627Z
LAST-MODIFIED:20260420T154627Z
UID:10001228-1780819200-1780833600@historicwethersfield.org
SUMMARY:Bike Festival Show and Swap Meet
DESCRIPTION:June 7th\, 8:00am – 12:00pm. Wethersfield Bike Festival Show and Swap Meet \nFamily games\, many bikes to see. Lots of bicycles\, parts\, and accessories available to buy. The event is rain or shine at Hanmer School. Free general admission. $25 donation for seller spots.  \nEmail tbrown@wethersfield.me for more info! \nSee Facebook event page for more. \nhttps://www.facebook.com/share/1DVWLuDkVE/
URL:https://historicwethersfield.org/event/bike-festival-show-and-swap-meet/
LOCATION:Hanmer Elementary School\, 50 Francis Street\, Wethersfield\, 06109\, United States
CATEGORIES:Clubs & Groups,Outdoors,Sports,Tags & Treasures,Walk, Hike, or Bike
ATTACH;FMTTYPE=image/jpeg:https://cdn.historicwethersfield.org/wp-content/uploads/2026/04/20114541/Bicycle-Festival.jpg
ORGANIZER;CN="Wethersfield High School Bicycle Club":MAILTO:tbrown@wethersfield.me
END:VEVENT
END:VCALENDAR